BEGIN:VCALENDAR
VERSION:2.0
PRODID:-//Houston Pets Alive! - ECPv6.15.12.2//NONSGML v1.0//EN
CALSCALE:GREGORIAN
METHOD:PUBLISH
X-WR-CALNAME:Houston Pets Alive!
X-ORIGINAL-URL:https://www.houstonpetsalive.org
X-WR-CALDESC:Events for Houston Pets Alive!
REFRESH-INTERVAL;VALUE=DURATION:PT1H
X-Robots-Tag:noindex
X-PUBLISHED-TTL:PT1H
BEGIN:VTIMEZONE
TZID:America/Chicago
BEGIN:DAYLIGHT
TZOFFSETFROM:-0600
TZOFFSETTO:-0500
TZNAME:CDT
DTSTART:20240310T080000
END:DAYLIGHT
BEGIN:STANDARD
TZOFFSETFROM:-0500
TZOFFSETTO:-0600
TZNAME:CST
DTSTART:20241103T070000
END:STANDARD
BEGIN:DAYLIGHT
TZOFFSETFROM:-0600
TZOFFSETTO:-0500
TZNAME:CDT
DTSTART:20250309T080000
END:DAYLIGHT
BEGIN:STANDARD
TZOFFSETFROM:-0500
TZOFFSETTO:-0600
TZNAME:CST
DTSTART:20251102T070000
END:STANDARD
BEGIN:DAYLIGHT
TZOFFSETFROM:-0600
TZOFFSETTO:-0500
TZNAME:CDT
DTSTART:20260308T080000
END:DAYLIGHT
BEGIN:STANDARD
TZOFFSETFROM:-0500
TZOFFSETTO:-0600
TZNAME:CST
DTSTART:20261101T070000
END:STANDARD
END:VTIMEZONE
BEGIN:VEVENT
DTSTART;TZID=America/Chicago:20250404T110000
DTEND;TZID=America/Chicago:20250404T130000
DTSTAMP:20260421T043243
CREATED:20250331T135203Z
LAST-MODIFIED:20250331T183626Z
UID:8628-1743764400-1743771600@www.houstonpetsalive.org
SUMMARY:Free Drive-Thru Pet Vaccine & Microchips
DESCRIPTION:Join us for a free vaccination and microchip clinic! This event is open to the public. 2 animal limit per car. Dogs must be leashed\, and cats must be in a carrier.
URL:https://www.houstonpetsalive.org/hpa-event/free-drive-thru-pet-vaccine-microchips/
LOCATION:Pasadena Adoption Center\, 5160 Burke Rd\, Pasadena\, TX\, 77504\, United States
ATTACH;FMTTYPE=image/png:https://www.houstonpetsalive.org/wp-content/uploads/2025/03/Screenshot-2025-03-31-at-12.16.40 PM.png
END:VEVENT
END:VCALENDAR