BEGIN:VCALENDAR
VERSION:2.0
PRODID:-//Houston Pets Alive! - ECPv6.15.12.2//NONSGML v1.0//EN
CALSCALE:GREGORIAN
METHOD:PUBLISH
X-WR-CALNAME:Houston Pets Alive!
X-ORIGINAL-URL:https://www.houstonpetsalive.org
X-WR-CALDESC:Events for Houston Pets Alive!
REFRESH-INTERVAL;VALUE=DURATION:PT1H
X-Robots-Tag:noindex
X-PUBLISHED-TTL:PT1H
BEGIN:VTIMEZONE
TZID:America/Chicago
BEGIN:DAYLIGHT
TZOFFSETFROM:-0600
TZOFFSETTO:-0500
TZNAME:CDT
DTSTART:20250309T080000
END:DAYLIGHT
BEGIN:STANDARD
TZOFFSETFROM:-0500
TZOFFSETTO:-0600
TZNAME:CST
DTSTART:20251102T070000
END:STANDARD
BEGIN:DAYLIGHT
TZOFFSETFROM:-0600
TZOFFSETTO:-0500
TZNAME:CDT
DTSTART:20260308T080000
END:DAYLIGHT
BEGIN:STANDARD
TZOFFSETFROM:-0500
TZOFFSETTO:-0600
TZNAME:CST
DTSTART:20261101T070000
END:STANDARD
BEGIN:DAYLIGHT
TZOFFSETFROM:-0600
TZOFFSETTO:-0500
TZNAME:CDT
DTSTART:20270314T080000
END:DAYLIGHT
BEGIN:STANDARD
TZOFFSETFROM:-0500
TZOFFSETTO:-0600
TZNAME:CST
DTSTART:20271107T070000
END:STANDARD
END:VTIMEZONE
BEGIN:VEVENT
DTSTART;TZID=America/Chicago:20260425T100000
DTEND;TZID=America/Chicago:20260425T130000
DTSTAMP:20260425T203212
CREATED:20260409T205328Z
LAST-MODIFIED:20260409T205429Z
UID:15940-1777111200-1777122000@www.houstonpetsalive.org
SUMMARY:HPA! Community Store + Pet Pantry
DESCRIPTION:Shop our low-cost Pet Community Store! Find pet supplies including food\, collars\, leashes\, toys\, beds\, and more! Prices range from $0-$10. \nIf you would like to access our pet pantry\, please register before arriving to ensure we’re ready to assist you and your pets.
URL:https://www.houstonpetsalive.org/hpa-event/hpa-community-store-apr-4-copy-copy/
LOCATION:Houston Pets Alive!\, 2800 Antoine Dr\, Ste. 2854\, Houston\, TX\, 77092\, United States
ATTACH;FMTTYPE=image/png:https://www.houstonpetsalive.org/wp-content/uploads/2025/08/Featured-image-template-9.png
ORGANIZER;CN="Houston Pets Alive!":MAILTO:marketing@houstonpetsalive.org
END:VEVENT
BEGIN:VEVENT
DTSTART;TZID=America/Chicago:20260425T110000
DTEND;TZID=America/Chicago:20260425T140000
DTSTAMP:20260425T203212
CREATED:20260116T155846Z
LAST-MODIFIED:20260409T203555Z
UID:14965-1777114800-1777125600@www.houstonpetsalive.org
SUMMARY:Adopt-a-Palooza
DESCRIPTION:Looking to adopt a dog or cat in Houston? Adopt-a-Palooza brings together adoptable dogs and cats from multiple Houston-area shelters\, all in one place and ready to find homes. \nEach Adopt-a-Palooza event features a wide variety of pets\, including puppies\, dogs\, kittens\, and cats of all ages and sizes\, making it easy to find your perfect match. \nAll animals are spayed or neutered\, vaccinated\, microchipped\, and ready to go home. Sponsored by Livewell Animal Hospital. \n 
URL:https://www.houstonpetsalive.org/hpa-event/adopt-a-palooza-may-9/
LOCATION:Houston Pets Alive!\, 2800 Antoine Dr\, Ste. 2854\, Houston\, TX\, 77092\, United States
ATTACH;FMTTYPE=image/png:https://www.houstonpetsalive.org/wp-content/uploads/2026/01/Event-image-template-1200-x-600-px.png
ORGANIZER;CN="Houston Pets Alive!":MAILTO:marketing@houstonpetsalive.org
END:VEVENT
END:VCALENDAR